BEGIN:VCALENDAR
VERSION:2.0
PRODID:icalendar-ruby
CALSCALE:GREGORIAN
METHOD:PUBLISH
BEGIN:VEVENT
DTSTAMP:20260422T225416Z
UID:160-493318@onechurch.ca
DTSTART:20260925T010000Z
DTEND:20260925T030000Z
CLASS:PUBLIC
CREATED:20260422T140757
DESCRIPTION:Join us for our weekly Youth Drop-In Night\, a space for you to
  hang out\, connect\, and have fun! Our hours are 7-9pm every Thursday. Th
 e ages from Drop-in are 12-18. \n\nCome as you are and feel free to bring
  a friend. We've got games\, snacks\, and a great space for you to relax a
 nd be yourselves.\n
LAST-MODIFIED:20260422T140757
LOCATION:That Place on Railway\, 205 Railway Ave W\, Carlyle
SUMMARY:Youth Drop In
URL;VALUE=URI:https://onechurch.ca/events/youth-drop-in--160/2026-09-24
ATTACH;FILENAME=Poster---Youth-Drop-In-Night-Awaits-You.jpg;FMTTYPE=image/j
 peg:https://dq5pwpg1q8ru0.cloudfront.net/2025/10/21/19/41/03/b11f3c5f-83d7
 -4bc2-a963-00279175f9f4/Poster---Youth-Drop-In-Night-Awaits-You.jpg
END:VEVENT
END:VCALENDAR
